BEGIN:VCALENDAR
VERSION:2.0
PRODID:-//Margaret Lee - ECPv6.15.20//NONSGML v1.0//EN
CALSCALE:GREGORIAN
METHOD:PUBLISH
X-ORIGINAL-URL:https://margaretleeauthor.com
X-WR-CALDESC:Events for Margaret Lee
REFRESH-INTERVAL;VALUE=DURATION:PT1H
X-Robots-Tag:noindex
X-PUBLISHED-TTL:PT1H
BEGIN:VTIMEZONE
TZID:America/Chicago
BEGIN:DAYLIGHT
TZOFFSETFROM:-0600
TZOFFSETTO:-0500
TZNAME:CDT
DTSTART:20250309T080000
END:DAYLIGHT
BEGIN:STANDARD
TZOFFSETFROM:-0500
TZOFFSETTO:-0600
TZNAME:CST
DTSTART:20251102T070000
END:STANDARD
BEGIN:DAYLIGHT
TZOFFSETFROM:-0600
TZOFFSETTO:-0500
TZNAME:CDT
DTSTART:20260308T080000
END:DAYLIGHT
BEGIN:STANDARD
TZOFFSETFROM:-0500
TZOFFSETTO:-0600
TZNAME:CST
DTSTART:20261101T070000
END:STANDARD
BEGIN:DAYLIGHT
TZOFFSETFROM:-0600
TZOFFSETTO:-0500
TZNAME:CDT
DTSTART:20270314T080000
END:DAYLIGHT
BEGIN:STANDARD
TZOFFSETFROM:-0500
TZOFFSETTO:-0600
TZNAME:CST
DTSTART:20271107T070000
END:STANDARD
END:VTIMEZONE
BEGIN:VEVENT
DTSTART;TZID=America/Chicago:20260426T110000
DTEND;TZID=America/Chicago:20260426T140000
DTSTAMP:20260422T072840
CREATED:20260301T193907Z
LAST-MODIFIED:20260301T194314Z
UID:21087-1777201200-1777212000@margaretleeauthor.com
SUMMARY:Tulsa LitFest Book Fair
DESCRIPTION:I will have all my books available for sale\, including my new book\, Sappho Prompts\, and all my chapbooks\, at discounted prices.
URL:https://margaretleeauthor.com/event/tulsa-litfest-book-fair/
LOCATION:Main Hall | OSU Tulsa\, 700 N. Greenwood Ave.\, Tulsa\, OK\, 74106
CATEGORIES:Book Signing
ATTACH;FMTTYPE=image/png:https://margaretleeauthor.com/wp-content/uploads/2026/03/Screenshot-2026-03-01-at-1.38.39-PM.png
END:VEVENT
BEGIN:VEVENT
DTSTART;TZID=America/Chicago:20260508T190000
DTEND;TZID=America/Chicago:20260508T210000
DTSTAMP:20260422T072840
CREATED:20260320T224005Z
LAST-MODIFIED:20260320T224005Z
UID:21129-1778266800-1778274000@margaretleeauthor.com
SUMMARY:SOMOS Poetry Reading - TAOS\, NM
DESCRIPTION:Join us for a FREE poetry reading with readings by Margaret and two other guest poets\, Veronica Golos\, and Jack Jacober. \n\nPOET BIOS \nVeronica Golos\nVeronica is the author of four poetry books: GIRL awarded the Naji Naaman Honor Prize\, 2019 (Beirut\, Lebanon); Rootwork\, winner of the Southwest Book Design Award in Poetry\, 2016; Vocabulary of Silence winner of the 2011 New Mexico Book Award\, translated into Arabic\, Spanish and Persian; and A Bell Buried Deep\, winner of the Nicholas Roerich Poetry Prize. She is the former editor of the Feminist Journal of Religion\, and former co-editor of the Taos Journal of Poetry. Golos teaches poetry for Tupelo Conferences\, Hugo House\, Gemini Ink\, SOMOS\, and privately. She is a poetry book reviewer for Tueplo Quarterly\, and is an editor for poetry manuscripts. She lives in Taos\, New Mexico\, with her husband\, David Pérez. \nJock Jacober\nContinually summoned by the energetic landscape of northern New Mexico and southern Colorado\, Jock Jacober’s poetry is created in Taos\, where he lives. His farming and ranching experiences have helped forge a relationship to the living world that is honored in his work. \nMargaret Lee\nMargaret is a poet\, scholar\, fiber artist\, watercolor sketcher\, and aspiring naturalist in Tulsa\, Oklahoma. Her poetry collection\, Sappho Prompts with Finishing Line Press\, uses Sappho’s fragmentary lines as prompts for new poems exploring the myths\, desires\, and longings that characterize Sappho’s ancient songs.
URL:https://margaretleeauthor.com/event/somos-poetry-reading/
CATEGORIES:Poetry Reading
ATTACH;FMTTYPE=image/png:https://margaretleeauthor.com/wp-content/uploads/2026/03/Screenshot-2026-03-13-at-2.37.35-PM.png
END:VEVENT
END:VCALENDAR